Workbook
Name Inflacion1: [1]Bases!$F$7
Name Inflacion2: [1]Bases!$G$7
Name Inflacion3: [1]Bases!$H$7
Name Inflacion4: [1]Bases!$I$7

Sheet Presupuesto
B4: LA INFORMACIÓN PROPORCIONADA EN TODO ESTE ARCHIVO DEBE SER LA PROYECTADA, DE ACUERDO AL RECURSO REQUERIDO
A7: PRESUPUESTO EMPRESA "---"
B8: Mes 1 | C8: Mes 2 | D8: Mes 3 | E8: Mes 4 | F8: Mes 5 | G8: Mes 6 | H8: Mes 7 | I8: Mes 8 | J8: Mes 9 | K8: Mes 10 | L8: Mes 11 | M8: Mes 12
A9: Ingresos - Ventas
A10: Producto 1 | B10: =+'Ventas-Ingresos'!B25 -> 0 | C10: =+'Ventas-Ingresos'!C25 -> 0 | D10: =+'Ventas-Ingresos'!D25 -> 0 | E10: =+'Ventas-Ingresos'!E25 -> 0 | F10: =+'Ventas-Ingresos'!F25 -> 0 | G10: =+'Ventas-Ingresos'!G25 -> 0 | H10: =+'Ventas-Ingresos'!H25 -> 0 | I10: =+'Ventas-Ingresos'!I25 -> 0 | ... M10: =+'Ventas-Ingresos'!M25 -> 0
A11: Producto 2 | B11: =+'Ventas-Ingresos'!B26 -> 0 | C11: =+'Ventas-Ingresos'!C26 -> 0 | D11: =+'Ventas-Ingresos'!D26 -> 0 | E11: =+'Ventas-Ingresos'!E26 -> 0 | F11: =+'Ventas-Ingresos'!F26 -> 0 | G11: =+'Ventas-Ingresos'!G26 -> 0 | H11: =+'Ventas-Ingresos'!H26 -> 0 | I11: =+'Ventas-Ingresos'!I26 -> 0 | ... M11: =+'Ventas-Ingresos'!M26 -> 0
A12: Producto 3 | B12: =+'Ventas-Ingresos'!B27 -> 0 | C12: =+'Ventas-Ingresos'!C27 -> 0 | D12: =+'Ventas-Ingresos'!D27 -> 0 | E12: =+'Ventas-Ingresos'!E27 -> 0 | F12: =+'Ventas-Ingresos'!F27 -> 0 | G12: =+'Ventas-Ingresos'!G27 -> 0 | H12: =+'Ventas-Ingresos'!H27 -> 0 | I12: =+'Ventas-Ingresos'!I27 -> 0 | ... M12: =+'Ventas-Ingresos'!M27 -> 0
A13: Producto 4 | B13: =+'Ventas-Ingresos'!B28 -> 0 | C13: =+'Ventas-Ingresos'!C28 -> 0 | D13: =+'Ventas-Ingresos'!D28 -> 0 | E13: =+'Ventas-Ingresos'!E28 -> 0 | F13: =+'Ventas-Ingresos'!F28 -> 0 | G13: =+'Ventas-Ingresos'!G28 -> 0 | H13: =+'Ventas-Ingresos'!H28 -> 0 | I13: =+'Ventas-Ingresos'!I28 -> 0 | ... M13: =+'Ventas-Ingresos'!M28 -> 0
A14: Producto 5 | B14: =+'Ventas-Ingresos'!B29 -> 0 | C14: =+'Ventas-Ingresos'!C29 -> 0 | D14: =+'Ventas-Ingresos'!D29 -> 0 | E14: =+'Ventas-Ingresos'!E29 -> 0 | F14: =+'Ventas-Ingresos'!F29 -> 0 | G14: =+'Ventas-Ingresos'!G29 -> 0 | H14: =+'Ventas-Ingresos'!H29 -> 0 | I14: =+'Ventas-Ingresos'!I29 -> 0 | ... M14: =+'Ventas-Ingresos'!M29 -> 0
A15: Otros ingresos 1 | B15: =+'Otros Ingresos'!B25 -> 0 | C15: =+'Otros Ingresos'!C25 -> 0 | D15: =+'Otros Ingresos'!D25 -> 0 | E15: =+'Otros Ingresos'!E25 -> 0 | F15: =+'Otros Ingresos'!F25 -> 0 | G15: =+'Otros Ingresos'!G25 -> 0 | H15: =+'Otros Ingresos'!H25 -> 0 | I15: =+'Otros Ingresos'!I25 -> 0 | ... M15: =+'Otros Ingresos'!M25 -> 0
A16: Otros ingresos 2 | B16: =+'Otros Ingresos'!B26 -> 0 | C16: =+'Otros Ingresos'!C26 -> 0 | D16: =+'Otros Ingresos'!D26 -> 0 | E16: =+'Otros Ingresos'!E26 -> 0 | F16: =+'Otros Ingresos'!F26 -> 0 | G16: =+'Otros Ingresos'!G26 -> 0 | H16: =+'Otros Ingresos'!H26 -> 0 | I16: =+'Otros Ingresos'!I26 -> 0 | ... M16: =+'Otros Ingresos'!M26 -> 0
A17: Otros ingresos 3 | B17: =+'Otros Ingresos'!B27 -> 0 | C17: =+'Otros Ingresos'!C27 -> 0 | D17: =+'Otros Ingresos'!D27 -> 0 | E17: =+'Otros Ingresos'!E27 -> 0 | F17: =+'Otros Ingresos'!F27 -> 0 | G17: =+'Otros Ingresos'!G27 -> 0 | H17: =+'Otros Ingresos'!H27 -> 0 | I17: =+'Otros Ingresos'!I27 -> 0 | ... M17: =+'Otros Ingresos'!M27 -> 0
A18: TOTAL INGRESOS | B18: =SUM(B10:B17) -> 0 | C18: =SUM(C10:C17) -> 0 | D18: =SUM(D10:D17) -> 0 | E18: =SUM(E10:E17) -> 0 | F18: =SUM(F10:F17) -> 0 | G18: =SUM(G10:G17) -> 0 | H18: =SUM(H10:H17) -> 0 | I18: =SUM(I10:I17) -> 0 | ... M18: =SUM(M10:M17) -> 0
A20: Costos Variables Unitarios
A21: Materia Prima (Costo Promedio) | B21: =SUM(B22:B26) -> 0 | C21: =SUM(C22:C26) -> 0 | D21: =SUM(D22:D26) -> 0 | E21: =SUM(E22:E26) -> 0 | F21: =SUM(F22:F26) -> 0 | G21: =SUM(G22:G26) -> 0 | H21: =SUM(H22:H26) -> 0 | I21: =SUM(I22:I26) -> 0 | ... M21: =SUM(M22:M26) -> 0
A22: Producto 1 | B22: =+Costos!B48 -> 0 | C22: =+Costos!C48 -> 0 | D22: =+Costos!D48 -> 0 | E22: =+Costos!E48 -> 0 | F22: =+Costos!F48 -> 0 | G22: =+Costos!G48 -> 0 | H22: =+Costos!H48 -> 0 | I22: =+Costos!I48 -> 0 | ... M22: =+Costos!M48 -> 0
A23: Producto 2 | B23: =+Costos!B49 -> 0 | C23: =+Costos!C49 -> 0 | D23: =+Costos!D49 -> 0 | E23: =+Costos!E49 -> 0 | F23: =+Costos!F49 -> 0 | G23: =+Costos!G49 -> 0 | H23: =+Costos!H49 -> 0 | I23: =+Costos!I49 -> 0 | ... M23: =+Costos!M49 -> 0
A24: Producto 3 | B24: =+Costos!B50 -> 0 | C24: =+Costos!C50 -> 0 | D24: =+Costos!D50 -> 0 | E24: =+Costos!E50 -> 0 | F24: =+Costos!F50 -> 0 | G24: =+Costos!G50 -> 0 | H24: =+Costos!H50 -> 0 | I24: =+Costos!I50 -> 0 | ... M24: =+Costos!M50 -> 0
A25: Producto 4 | B25: =+Costos!B51 -> 0 | C25: =+Costos!C51 -> 0 | D25: =+Costos!D51 -> 0 | E25: =+Costos!E51 -> 0 | F25: =+Costos!F51 -> 0 | G25: =+Costos!G51 -> 0 | H25: =+Costos!H51 -> 0 | I25: =+Costos!I51 -> 0 | ... M25: =+Costos!M51 -> 0
A26: Producto 5 | B26: =+Costos!B52 -> 0 | C26: =+Costos!C52 -> 0 | D26: =+Costos!D52 -> 0 | E26: =+Costos!E52 -> 0 | F26: =+Costos!F52 -> 0 | G26: =+Costos!G52 -> 0 | H26: =+Costos!H52 -> 0 | I26: =+Costos!I52 -> 0 | ... M26: =+Costos!M52 -> 0
A27: Mano de Obra (Costo Promedio) | B27: =SUM(B28:B32) -> 0 | C27: =SUM(C28:C32) -> 0 | D27: =SUM(D28:D32) -> 0 | E27: =SUM(E28:E32) -> 0 | F27: =SUM(F28:F32) -> 0 | G27: =SUM(G28:G32) -> 0 | H27: =SUM(H28:H32) -> 0 | I27: =SUM(I28:I32) -> 0 | ... M27: =SUM(M28:M32) -> 0
A28: Producto 1 | B28: =+Costos!B56 -> 0 | C28: =+Costos!C56 -> 0 | D28: =+Costos!D56 -> 0 | E28: =+Costos!E56 -> 0 | F28: =+Costos!F56 -> 0 | G28: =+Costos!G56 -> 0 | H28: =+Costos!H56 -> 0 | I28: =+Costos!I56 -> 0 | ... M28: =+Costos!M56 -> 0
A29: Producto 2 | B29: =+Costos!B57 -> 0 | C29: =+Costos!C57 -> 0 | D29: =+Costos!D57 -> 0 | E29: =+Costos!E57 -> 0 | F29: =+Costos!F57 -> 0 | G29: =+Costos!G57 -> 0 | H29: =+Costos!H57 -> 0 | I29: =+Costos!I57 -> 0 | ... M29: =+Costos!M57 -> 0
A30: Producto 3 | B30: =+Costos!B58 -> 0 | C30: =+Costos!C58 -> 0 | D30: =+Costos!D58 -> 0 | E30: =+Costos!E58 -> 0 | F30: =+Costos!F58 -> 0 | G30: =+Costos!G58 -> 0 | H30: =+Costos!H58 -> 0 | I30: =+Costos!I58 -> 0 | ... M30: =+Costos!M58 -> 0
A31: Producto 4 | B31: =+Costos!B59 -> 0 | C31: =+Costos!C59 -> 0 | D31: =+Costos!D59 -> 0 | E31: =+Costos!E59 -> 0 | F31: =+Costos!F59 -> 0 | G31: =+Costos!G59 -> 0 | H31: =+Costos!H59 -> 0 | I31: =+Costos!I59 -> 0 | ... M31: =+Costos!M59 -> 0
A32: Producto 5 | B32: =+Costos!B60 -> 0 | C32: =+Costos!C60 -> 0 | D32: =+Costos!D60 -> 0 | E32: =+Costos!E60 -> 0 | F32: =+Costos!F60 -> 0 | G32: =+Costos!G60 -> 0 | H32: =+Costos!H60 -> 0 | I32: =+Costos!I60 -> 0 | ... M32: =+Costos!M60 -> 0
A33: Materia Prima y M.O. | B33: =+B21+B27 -> 0 | C33: =+C21+C27 -> 0 | D33: =+D21+D27 -> 0 | E33: =+E21+E27 -> 0 | F33: =+F21+F27 -> 0 | G33: =+G21+G27 -> 0 | H33: =+H21+H27 -> 0 | I33: =+I21+I27 -> 0 | ... M33: =+M21+M27 -> 0
A35: Otros Costos
A36: Costos de Fabricación | B36: =+Costos!B64 -> 0 | C36: =+Costos!C64 -> 0 | D36: =+Costos!D64 -> 0 | E36: =+Costos!E64 -> 0 | F36: =+Costos!F64 -> 0 | G36: =+Costos!G64 -> 0 | H36: =+Costos!H64 -> 0 | I36: =+Costos!I64 -> 0 | ... M36: =+Costos!M64 -> 0
A37: Costo de Manufactura | B37: =+Costos!B65 -> 0 | C37: =+Costos!C65 -> 0 | D37: =+Costos!D65 -> 0 | E37: =+Costos!E65 -> 0 | F37: =+Costos!F65 -> 0 | G37: =+Costos!G65 -> 0 | H37: =+Costos!H65 -> 0 | I37: =+Costos!I65 -> 0 | ... M37: =+Costos!M65 -> 0
A38: Costo de Producción | B38: =+Costos!B66 -> 0 | C38: =+Costos!C66 -> 0 | D38: =+Costos!D66 -> 0 | E38: =+Costos!E66 -> 0 | F38: =+Costos!F66 -> 0 | G38: =+Costos!G66 -> 0 | H38: =+Costos!H66 -> 0 | I38: =+Costos!I66 -> 0 | ... M38: =+Costos!M66 -> 0
A39: Costo de Ventas | B39: =+Costos!B67 -> 0 | C39: =+Costos!C67 -> 0 | D39: =+Costos!D67 -> 0 | E39: =+Costos!E67 -> 0 | F39: =+Costos!F67 -> 0 | G39: =+Costos!G67 -> 0 | H39: =+Costos!H67 -> 0 | I39: =+Costos!I67 -> 0 | ... M39: =+Costos!M67 -> 0
A41: TOTAL COSTOS | B41: =+B33+SUM(B36:B39) -> 0 | C41: =+C33+SUM(C36:C39) -> 0 | D41: =+D33+SUM(D36:D39) -> 0 | E41: =+E33+SUM(E36:E39) -> 0 | F41: =+F33+SUM(F36:F39) -> 0 | G41: =+G33+SUM(G36:G39) -> 0 | H41: =+H33+SUM(H36:H39) -> 0 | I41: =+I33+SUM(I36:I39) -> 0 | ... M41: =+M33+SUM(M36:M39) -> 0
A43: Gastos
A44: Gastos de administración | B44: =SUM(B45:B46)+B47+B53+B54 -> 0 | C44: =SUM(C45:C46)+C47+C53+C54 -> 0 | D44: =SUM(D45:D46)+D47+D53+D54 -> 0 | E44: =SUM(E45:E46)+E47+E53+E54 -> 0 | F44: =SUM(F45:F46)+F47+F53+F54 -> 0 | G44: =SUM(G45:G46)+G47+G53+G54 -> 0 | H44: =SUM(H45:H46)+H47+H53+H54 -> 0 | I44: =SUM(I45:I46)+I47+I53+I54 -> 0 | ... M44: =SUM(M45:M46)+M47+M53+M54 -> 0
A45: Nomina completa | B45: =+Nomina!E46 -> 0 | C45: =+Nomina!F46 -> 0 | D45: =+Nomina!G46 -> 0 | E45: =+Nomina!H46 -> 0 | F45: =+Nomina!I46 -> 0 | G45: =+Nomina!J46 -> 0 | H45: =+Nomina!K46 -> 0 | I45: =+Nomina!L46 -> 0 | ... M45: =+Nomina!P46 -> 0
A46: Arrendamiento (si aplica)
A47: Servicios publicos | B47: =SUM(B48:B52) -> 0 | C47: =SUM(C48:C52) -> 0 | D47: =SUM(D48:D52) -> 0 | E47: =SUM(E48:E52) -> 0 | F47: =SUM(F48:F52) -> 0 | G47: =SUM(G48:G52) -> 0 | H47: =SUM(H48:H52) -> 0 | I47: =SUM(I48:I52) -> 0 | ... M47: =SUM(M48:M52) -> 0
A48: Energia
A49: Agua
...

Sheet Ventas-Ingresos
B4: LA INFORMACIÓN PROPORCIONADA EN TODO ESTE ARCHIVO DEBE SER LA PROYECTADA, DE ACUERDO AL RECURSO REQUERIDO
A7: VENTAS - INGRESOS
B8: Mes 1 | C8: Mes 2 | D8: Mes 3 | E8: Mes 4 | F8: Mes 5 | G8: Mes 6 | H8: Mes 7 | I8: Mes 8 | J8: Mes 9 | K8: Mes 10 | L8: Mes 11 | M8: Mes 12
A9: Precios, Volùmenes y Ventas Totales
A10: Precio por Producto
A11: Producto 1
A12: Producto 2
A13: Producto 3
A14: Producto 4
A15: Producto 5
A17: Unidades Vendidas por Producto
A18: =+A11 -> Producto 1
A19: =+A12 -> Producto 2
A20: =+A13 -> Producto 3
A21: =+A14 -> Producto 4
A22: =+A15 -> Producto 5
A24: Unidades Vendidas por Producto
A25: =+A11 -> Producto 1 | B25: =+B11*B18 -> 0 | C25: =+C11*C18 -> 0 | D25: =+D11*D18 -> 0 | E25: =+E11*E18 -> 0 | F25: =+F11*F18 -> 0 | G25: =+G11*G18 -> 0 | H25: =+H11*H18 -> 0 | I25: =+I11*I18 -> 0 | ... M25: =+M11*M18 -> 0
A26: =+A12 -> Producto 2 | B26: =+B12*B19 -> 0 | C26: =+C12*C19 -> 0 | D26: =+D12*D19 -> 0 | E26: =+E12*E19 -> 0 | F26: =+F12*F19 -> 0 | G26: =+G12*G19 -> 0 | H26: =+H12*H19 -> 0 | I26: =+I12*I19 -> 0 | ... M26: =+M12*M19 -> 0
A27: =+A13 -> Producto 3 | B27: =+B13*B20 -> 0 | C27: =+C13*C20 -> 0 | D27: =+D13*D20 -> 0 | E27: =+E13*E20 -> 0 | F27: =+F13*F20 -> 0 | G27: =+G13*G20 -> 0 | H27: =+H13*H20 -> 0 | I27: =+I13*I20 -> 0 | ... M27: =+M13*M20 -> 0
A28: =+A14 -> Producto 4 | B28: =+B14*B21 -> 0 | C28: =+C14*C21 -> 0 | D28: =+D14*D21 -> 0 | E28: =+E14*E21 -> 0 | F28: =+F14*F21 -> 0 | G28: =+G14*G21 -> 0 | H28: =+H14*H21 -> 0 | I28: =+I14*I21 -> 0 | ... M28: =+M14*M21 -> 0
A29: =+A15 -> Producto 5 | B29: =+B15*B22 -> 0 | C29: =+C15*C22 -> 0 | D29: =+D15*D22 -> 0 | E29: =+E15*E22 -> 0 | F29: =+F15*F22 -> 0 | G29: =+G15*G22 -> 0 | H29: =+H15*H22 -> 0 | I29: =+I15*I22 -> 0 | ... M29: =+M15*M22 -> 0
A31: Total ventas mensuales | B31: =SUM(B25:B29) -> 0 | C31: =SUM(C25:C29) -> 0 | D31: =SUM(D25:D29) -> 0 | E31: =SUM(E25:E29) -> 0 | F31: =SUM(F25:F29) -> 0 | G31: =SUM(G25:G29) -> 0 | H31: =SUM(H25:H29) -> 0 | I31: =SUM(I25:I29) -> 0 | ... M31: =SUM(M25:M29) -> 0
A33: TOTAL VENTAS | B33: =SUM(B31:M31) -> 0

Sheet Otros Ingresos
B4: LA INFORMACIÓN PROPORCIONADA EN TODO ESTE ARCHIVO DEBE SER LA PROYECTADA, DE ACUERDO AL RECURSO REQUERIDO
A7: OTROS INGRESOS
B8: Mes 1 | C8: Mes 2 | D8: Mes 3 | E8: Mes 4 | F8: Mes 5 | G8: Mes 6 | H8: Mes 7 | I8: Mes 8 | J8: Mes 9 | K8: Mes 10 | L8: Mes 11 | M8: Mes 12
A9: Precios, Volùmenes y Ventas Totales
A10: Precio por Producto
A11: Otros Ingresos Producto 1
A12: Otros Ingresos Producto 2
A13: Otros Ingresos Producto 3
A17: Unidades Vendidas por Producto
A18: =+A11 -> Otros Ingresos Producto 1
A19: =+A12 -> Otros Ingresos Producto 2
A20: =+A13 -> Otros Ingresos Producto 3
A21: =+A14 -> 0
A22: =+A15 -> 0
A24: Unidades Vendidas por Producto
A25: =+A11 -> Otros Ingresos Producto 1 | B25: =+B11*B18 -> 0 | C25: =+C11*C18 -> 0 | D25: =+D11*D18 -> 0 | E25: =+E11*E18 -> 0 | F25: =+F11*F18 -> 0 | G25: =+G11*G18 -> 0 | H25: =+H11*H18 -> 0 | I25: =+I11*I18 -> 0 | ... M25: =+M11*M18 -> 0
A26: =+A12 -> Otros Ingresos Producto 2 | B26: =+B12*B19 -> 0 | C26: =+C12*C19 -> 0 | D26: =+D12*D19 -> 0 | E26: =+E12*E19 -> 0 | F26: =+F12*F19 -> 0 | G26: =+G12*G19 -> 0 | H26: =+H12*H19 -> 0 | I26: =+I12*I19 -> 0 | ... M26: =+M12*M19 -> 0
A27: =+A13 -> Otros Ingresos Producto 3 | B27: =+B13*B20 -> 0 | C27: =+C13*C20 -> 0 | D27: =+D13*D20 -> 0 | E27: =+E13*E20 -> 0 | F27: =+F13*F20 -> 0 | G27: =+G13*G20 -> 0 | H27: =+H13*H20 -> 0 | I27: =+I13*I20 -> 0 | ... M27: =+M13*M20 -> 0
A28: =+A14 -> 0 | B28: =+B14*B21 -> 0 | C28: =+C14*C21 -> 0 | D28: =+D14*D21 -> 0 | E28: =+E14*E21 -> 0 | F28: =+F14*F21 -> 0 | G28: =+G14*G21 -> 0 | H28: =+H14*H21 -> 0 | I28: =+I14*I21 -> 0 | ... M28: =+M14*M21 -> 0
A29: =+A15 -> 0 | B29: =+B15*B22 -> 0 | C29: =+C15*C22 -> 0 | D29: =+D15*D22 -> 0 | E29: =+E15*E22 -> 0 | F29: =+F15*F22 -> 0 | G29: =+G15*G22 -> 0 | H29: =+H15*H22 -> 0 | I29: =+I15*I22 -> 0 | ... M29: =+M15*M22 -> 0
A31: Total otros ingresos mensuales | B31: =SUM(B25:B29) -> 0 | C31: =SUM(C25:C29) -> 0 | D31: =SUM(D25:D29) -> 0 | E31: =SUM(E25:E29) -> 0 | F31: =SUM(F25:F29) -> 0 | G31: =SUM(G25:G29) -> 0 | H31: =SUM(H25:H29) -> 0 | I31: =SUM(I25:I29) -> 0 | ... M31: =SUM(M25:M29) -> 0
A33: OTROS INGRESOS | B33: =SUM(B31:M31) -> 0

Sheet Costos
B4: LA INFORMACIÓN PROPORCIONADA EN TODO ESTE ARCHIVO DEBE SER LA PROYECTADA, DE ACUERDO AL RECURSO REQUERIDO
A7: COSTOS
B8: Mes 1 | C8: Mes 2 | D8: Mes 3 | E8: Mes 4 | F8: Mes 5 | G8: Mes 6 | H8: Mes 7 | I8: Mes 8 | J8: Mes 9 | K8: Mes 10 | L8: Mes 11 | M8: Mes 12
A9: Precio costos variables
A10: Materia Prima (costo promedio)
A11: Costo producto 1
A12: Costo producto 2
A13: Costo producto 3
A14: Costo producto 4
A15: Costo producto 5
A17: Unidades costos variables
A18: Materia Prima (cantidad promedio)
A19: Unidades producto 1
A20: Unidades producto 2
A21: Unidades producto 3
... A26: Precio Mano de Obra (costo promedio)
A27: =+A11 -> Costo producto 1
A28: =+A12 -> Costo producto 2
A29: =+A13 -> Costo producto 3
A30: =+A14 -> Costo producto 4
A31: =+A15 -> Costo producto 5
A33: Unidades costos variables
A34: Mano de obra (costo promedio)
A35: =+A19 -> Unidades producto 1
A36: =+A20 -> Unidades producto 2
A37: =+A21 -> Unidades producto 3
A38: =+A22 -> Unidades producto 4
A39: =+A23 -> Unidades producto 5
A41: Precio Otros Costos
A42: Costos de Fabricación
A43: Costo de Manufactura
A44: Costo de Producción
A45: Costo de Ventas
A47: Costo Materia Prima
A48: =+A11 -> Costo producto 1 | B48: =+B11*B19 -> 0 | C48: =+C11*C19 -> 0 | D48: =+D11*D19 -> 0 | E48: =+E11*E19 -> 0 | F48: =+F11*F19 -> 0 | G48: =+G11*G19 -> 0 | H48: =+H11*H19 -> 0 | I48: =+I11*I19 -> 0 | ... M48: =+M11*M19 -> 0
A49: =+A12 -> Costo producto 2 | B49: =+B12*B20 -> 0 | C49: =+C12*C20 -> 0 | D49: =+D12*D20 -> 0 | E49: =+E12*E20 -> 0 | F49: =+F12*F20 -> 0 | G49: =+G12*G20 -> 0 | H49: =+H12*H20 -> 0 | I49: =+I12*I20 -> 0 | ... M49: =+M12*M20 -> 0
A50: =+A13 -> Costo producto 3 | B50: =+B13*B21 -> 0 | C50: =+C13*C21 -> 0 | D50: =+D13*D21 -> 0 | E50: =+E13*E21 -> 0 | F50: =+F13*F21 -> 0 | G50: =+G13*G21 -> 0 | H50: =+H13*H21 -> 0 | I50: =+I13*I21 -> 0 | ... M50: =+M13*M21 -> 0
A51: =+A14 -> Costo producto 4 | B51: =+B14*B22 -> 0 | C51: =+C14*C22 -> 0 | D51: =+D14*D22 -> 0 | E51: =+E14*E22 -> 0 | F51: =+F14*F22 -> 0 | G51: =+G14*G22 -> 0 | H51: =+H14*H22 -> 0 | I51: =+I14*I22 -> 0 | ... M51: =+M14*M22 -> 0
A52: =+A15 -> Costo producto 5 | B52: =+B15*B23 -> 0 | C52: =+C15*C23 -> 0 | D52: =+D15*D23 -> 0 | E52: =+E15*E23 -> 0 | F52: =+F15*F23 -> 0 | G52: =+G15*G23 -> 0 | H52: =+H15*H23 -> 0 | I52: =+I15*I23 -> 0 | ... M52: =+M15*M23 -> 0
B53: =SUM(B48:B52) -> 0 | C53: =SUM(C48:C52) -> 0 | D53: =SUM(D48:D52) -> 0 | E53: =SUM(E48:E52) -> 0 | F53: =SUM(F48:F52) -> 0 | G53: =SUM(G48:G52) -> 0 | H53: =SUM(H48:H52) -> 0 | I53: =SUM(I48:I52) -> 0 | ... M53: =SUM(M48:M52) -> 0
...

Sheet Nomina
E4: LA INFORMACIÓN PROPORCIONADA EN TODO ESTE ARCHIVO DEBE SER LA PROYECTADA, DE ACUERDO AL RECURSO REQUERIDO
C7: NÓMINA
E8: Mes 1 | F8: Mes 2 | G8: Mes 3 | H8: Mes 4 | I8: Mes 5 | J8: Mes 6 | K8: Mes 7 | L8: Mes 8 | M8: Mes 9 | N8: Mes 10 | O8: Mes 11 | P8: Mes 12 | Q8: Mes 11 | R8: Mes 12
C10: Cargo | E10: Salario Mensual
C11: Nómina
C12: Cargo 1
C13: Cargo 2
C14: Cargo 3
C15: Cargo 4
C16: Cargo 5
C17: Cargo 6
C18: Cargo 7
C20: Subtotal Nómina | E20: =SUM(E12:E19) -> 0 | F20: =SUM(F12:F19) -> 0 | G20: =SUM(G12:G19) -> 0 | H20: =SUM(H12:H19) -> 0 | I20: =SUM(I12:I19) -> 0 | J20: =SUM(J12:J19) -> 0 | K20: =SUM(K12:K19) -> 0 | L20: =SUM(L12:L19) -> 0 | ... P20: =SUM(P12:P19) -> 0
C21: Factor Prestacional - Componentes
E22: =+C12 -> Cargo 1 | F22: =+C13 -> Cargo 2 | G22: =+C14 -> Cargo 3 | H22: =+C15 -> Cargo 4 | I22: =+C16 -> Cargo 5
C23: Prima | D23: 0.0833 | E23: =+E$12*D23 -> 0 | F23: =+$E$13*$D23 -> 0 | G23: =+$E$14*$D23 -> 0 | H23: =+$E$15*$D23 -> 0 | I23: =+$E$16*$D23 -> 0
C24: Pension | D24: 0.12 | E24: =+E$12*D24 -> 0 | F24: =+$E$13*$D24 -> 0 | G24: =+$E$14*$D24 -> 0 | H24: =+$E$15*$D24 -> 0 | I24: =+$E$16*$D24 -> 0
C25: Salud (EPS) | D25: 0.085 | E25: =+E$12*D25 -> 0 | F25: =+$E$13*$D25 -> 0 | G25: =+$E$14*$D25 -> 0 | H25: =+$E$15*$D25 -> 0 | I25: =+$E$16*$D25 -> 0
C26: ARL | D26: 0.01 | E26: =+E$12*D26 -> 0 | F26: =+$E$13*$D26 -> 0 | G26: =+$E$14*$D26 -> 0 | H26: =+$E$15*$D26 -> 0 | I26: =+$E$16*$D26 -> 0
C27: Caja de compensaciòn | D27: 0.04 | E27: =+E$12*D27 -> 0 | F27: =+$E$13*$D27 -> 0 | G27: =+$E$14*$D27 -> 0 | H27: =+$E$15*$D27 -> 0 | I27: =+$E$16*$D27 -> 0
C28: SENA | D28: 0.02 | E28: =+E$12*D28 -> 0 | F28: =+$E$13*$D28 -> 0 | G28: =+$E$14*$D28 -> 0 | H28: =+$E$15*$D28 -> 0 | I28: =+$E$16*$D28 -> 0
C29: ICBF | D29: 0.03 | E29: =+E$12*D29 -> 0 | F29: =+$E$13*$D29 -> 0 | G29: =+$E$14*$D29 -> 0 | H29: =+$E$15*$D29 -> 0 | I29: =+$E$16*$D29 -> 0
C30: Cesantias | D30: 0.0833 | E30: =+E$12*D30 -> 0 | F30: =+$E$13*$D30 -> 0 | G30: =+$E$14*$D30 -> 0 | H30: =+$E$15*$D30 -> 0 | I30: =+$E$16*$D30 -> 0
C31: Intereses sobre las Cesantias | D31: 0.01 | E31: =+E$12*D31 -> 0 | F31: =+$E$13*$D31 -> 0 | G31: =+$E$14*$D31 -> 0 | H31: =+$E$15*$D31 -> 0 | I31: =+$E$16*$D31 -> 0
C32: Vacaciones | D32: 0.0417 | E32: =+E$12*D32 -> 0 | F32: =+$E$13*$D32 -> 0 | G32: =+$E$14*$D32 -> 0 | H32: =+$E$15*$D32 -> 0 | I32: =+$E$16*$D32 -> 0
C33: Auxilio transporte
C34: Factor Prestacional Total | D34: =SUM(D23:D33) -> 0.5233 | E34: =SUM(E23:E33) -> 0 | F34: =SUM(F23:F33) -> 0 | G34: =SUM(G23:G33) -> 0 | H34: =SUM(H23:H33) -> 0 | I34: =SUM(I23:I33) -> 0
C36: Cargo
C37: Nómina
C38: =+C12 -> Cargo 1 | E38: =+E12+$E$34 -> 0 | F38: =+F12+$E$34 -> 0 | G38: =+G12+$E$34 -> 0 | H38: =+H12+$E$34 -> 0 | I38: =+I12+$E$34 -> 0 | J38: =+J12+$E$34 -> 0 | K38: =+K12+$E$34 -> 0 | L38: =+L12+$E$34 -> 0 | ... P38: =+P12+$E$34 -> 0
C39: =+C13 -> Cargo 2 | E39: =+E13+$F$34 -> 0 | F39: =+F13+$F$34 -> 0 | G39: =+G13+$F$34 -> 0 | H39: =+H13+$F$34 -> 0 | I39: =+I13+$F$34 -> 0 | J39: =+J13+$F$34 -> 0 | K39: =+K13+$F$34 -> 0 | L39: =+L13+$F$34 -> 0 | ... P39: =+P13+$F$34 -> 0
C40: =+C14 -> Cargo 3 | E40: =+E14+$G$34 -> 0 | F40: =+F14+$G$34 -> 0 | G40: =+G14+$G$34 -> 0 | H40: =+H14+$G$34 -> 0 | I40: =+I14+$G$34 -> 0 | J40: =+J14+$G$34 -> 0 | K40: =+K14+$G$34 -> 0 | L40: =+L14+$G$34 -> 0 | ... P40: =+P14+$G$34 -> 0
C41: =+C15 -> Cargo 4 | E41: =+E15+$H$34 -> 0 | F41: =+F15+$H$34 -> 0 | G41: =+G15+$H$34 -> 0 | H41: =+H15+$H$34 -> 0 | I41: =+I15+$H$34 -> 0 | J41: =+J15+$H$34 -> 0 | K41: =+K15+$H$34 -> 0 | L41: =+L15+$H$34 -> 0 | ... P41: =+P15+$H$34 -> 0
C42: =+C16 -> Cargo 5 | E42: =+E16+$I$34 -> 0 | F42: =+F16+$I$34 -> 0 | G42: =+G16+$I$34 -> 0 | H42: =+H16+$I$34 -> 0 | I42: =+I16+$I$34 -> 0 | J42: =+J16+$I$34 -> 0 | K42: =+K16+$I$34 -> 0 | L42: =+L16+$I$34 -> 0 | ... P42: =+P16+$I$34 -> 0
C43: =+C17 -> Cargo 6
C44: =+C18 -> Cargo 7
C46: Total Costo Nómina | E46: =SUM(E38:E45) -> 0 | F46: =SUM(F38:F45) -> 0 | G46: =SUM(G38:G45) -> 0 | H46: =SUM(H38:H45) -> 0 | I46: =SUM(I38:I45) -> 0 | J46: =SUM(J38:J45) -> 0 | K46: =SUM(K38:K45) -> 0 | L46: =SUM(L38:L45) -> 0 | ... P46: =SUM(P38:P45) -> 0

Sheet Balance
D7: 2017 | E7: 2018
C8: BALANCE GENERAL
C9: Activo
C10: Activo corto plazo
C11: Activo largo plazo
C12: ACTIVO | D12: =+D10+D11 -> 0 | E12: =+E10+E11 -> 0
C13: Pasivo
C14: Pasivo corto plazo
C15: Pasivo largo plazo
C16: PASIVO | D16: =+D14+D15 -> 0 | E16: =+E14+E15 -> 0
C17: Patrimonio
C18: PASIVO + PATRIMONIO | D18: =D16+D17 -> 0 | E18: =E16+E17 -> 0
D19: =+D12-D18 -> 0 | E19: =+E12-E18 -> 0 | F19: =+F12-F18 -> 0
C20: CUADRE | E20: =E18-E12 -> 0
C24: Transcribir los EEFF (Estados Financieros 2017 - 2018) Y ADJUNTAR LOS ORIGINALES

Sheet P&G
D8: 2017 | E8: 2018
C9: ESTADO DE RESULTADOS
C10: Ventas
C11: Costos totales de Fabricación
C12: Utilidad Bruta | D12: =D10-D11 -> 0 | E12: =E10-E11 -> 0
C13: Gasto Fijos
C14: Gastos de Ventas
C15: Utilidad Operativa | D15: =D12-SUM(D13:D14) -> 0 | E15: =E12-SUM(E13:E14) -> 0
C16: Costos de Intereses de deuda
C17: Utilidad antes de impuestos | D17: =D15-D16 -> 0 | E17: =E15-E16 -> 0
C18: Impuesto renta
C19: Utilidad Neta Final | D19: =D17-D18 -> 0 | E19: =E17-E18 -> 0
C25: Transcribir los EEFF (Estados Financieros 2017 - 2018) Y ADJUNTAR LOS ORIGINALES

Sheet Plan de Inversión
A7: PLAN DE INVERSIÓN
F8: Mes 1 | G8: Mes 2 | H8: Mes 3 | I8: Mes 4 | J8: Mes 5 | K8: Mes 6
F9: Distribuir el precio total en el mes o meses que se vayan a ejecutar
A10: INVERSIÓN | B10: CANTIDAD | C10: DESCRIPCIÓN INVERSIÓN | D10: PRECIO UNITARIO | E10: PRECIO TOTAL
E11: =+D11*B11 -> 0
E12: =+D12*B12 -> 0
E13: =+D13*B13 -> 0
E14: =+D14*B14 -> 0
E15: =+D15*B15 -> 0
E16: =+D16*B16 -> 0
E17: =+D17*B17 -> 0
E18: =+D18*B18 -> 0
E19: =+D19*B19 -> 0
E20: =+D20*B20 -> 0
A23: Total inversión por mes | F23: =SUM(F11:F20) -> 0 | G23: =SUM(G11:G20) -> 0 | H23: =SUM(H11:H20) -> 0 | I23: =SUM(I11:I20) -> 0 | J23: =SUM(J11:J20) -> 0 | K23: =SUM(K11:K20) -> 0
A25: TOTAL INVERSIÓN | F25: =SUM(E11:E20) -> 0
E26: Cuadre | F26: =+F25-SUM(F23:K23) -> 0
